BEGIN:VCALENDAR
VERSION:2.0
PRODID:-//Tsunami Eckernf&ouml;rde e.V. - ECPv6.15.20//NONSGML v1.0//EN
CALSCALE:GREGORIAN
METHOD:PUBLISH
X-ORIGINAL-URL:https://tsunami-eck.de
X-WR-CALDESC:Veranstaltungen für Tsunami Eckernf&ouml;rde e.V.
REFRESH-INTERVAL;VALUE=DURATION:PT1H
X-Robots-Tag:noindex
X-PUBLISHED-TTL:PT1H
BEGIN:VTIMEZONE
TZID:UTC
BEGIN:STANDARD
TZOFFSETFROM:+0000
TZOFFSETTO:+0000
TZNAME:UTC
DTSTART:20240101T000000
END:STANDARD
END:VTIMEZONE
BEGIN:VEVENT
DTSTART;TZID=UTC:20250908T173000
DTEND;TZID=UTC:20250908T190000
DTSTAMP:20260425T170511
CREATED:20250723T172449Z
LAST-MODIFIED:20250723T172449Z
UID:662-1757352600-1757358000@tsunami-eck.de
SUMMARY:Kindertraining
DESCRIPTION:
URL:https://tsunami-eck.de/veranstaltung/kindertraining-85/
LOCATION:Schleswig-Holstein
END:VEVENT
BEGIN:VEVENT
DTSTART;TZID=UTC:20250908T193000
DTEND;TZID=UTC:20250908T210000
DTSTAMP:20260425T170511
CREATED:20250723T171518Z
LAST-MODIFIED:20250723T171518Z
UID:614-1757359800-1757365200@tsunami-eck.de
SUMMARY:Erwachsenentraining
DESCRIPTION:
URL:https://tsunami-eck.de/veranstaltung/erwachsenentraining-42/
LOCATION:Schleswig-Holstein
END:VEVENT
BEGIN:VEVENT
DTSTART;TZID=UTC:20250912T173000
DTEND;TZID=UTC:20250912T190000
DTSTAMP:20260425T170511
CREATED:20250723T172540Z
LAST-MODIFIED:20250723T172540Z
UID:664-1757698200-1757703600@tsunami-eck.de
SUMMARY:Kindertraining
DESCRIPTION:
URL:https://tsunami-eck.de/veranstaltung/kindertraining-86/
LOCATION:Schleswig-Holstein
END:VEVENT
BEGIN:VEVENT
DTSTART;TZID=UTC:20250912T193000
DTEND;TZID=UTC:20250912T210000
DTSTAMP:20260425T170511
CREATED:20250723T171519Z
LAST-MODIFIED:20250723T171519Z
UID:615-1757705400-1757710800@tsunami-eck.de
SUMMARY:Erwachsenentraining
DESCRIPTION:
URL:https://tsunami-eck.de/veranstaltung/erwachsenentraining-43/
LOCATION:Schleswig-Holstein
END:VEVENT
BEGIN:VEVENT
DTSTART;TZID=UTC:20250915T173000
DTEND;TZID=UTC:20250915T190000
DTSTAMP:20260425T170511
CREATED:20250723T171519Z
LAST-MODIFIED:20250723T171519Z
UID:616-1757957400-1757962800@tsunami-eck.de
SUMMARY:Kindertraining
DESCRIPTION:
URL:https://tsunami-eck.de/veranstaltung/kindertraining-42/
LOCATION:Schleswig-Holstein
END:VEVENT
BEGIN:VEVENT
DTSTART;TZID=UTC:20250915T193000
DTEND;TZID=UTC:20250915T210000
DTSTAMP:20260425T170511
CREATED:20250723T171520Z
LAST-MODIFIED:20250723T171520Z
UID:617-1757964600-1757970000@tsunami-eck.de
SUMMARY:Erwachsenentraining
DESCRIPTION:
URL:https://tsunami-eck.de/veranstaltung/erwachsenentraining-44/
LOCATION:Schleswig-Holstein
END:VEVENT
BEGIN:VEVENT
DTSTART;TZID=UTC:20250919T173000
DTEND;TZID=UTC:20250919T190000
DTSTAMP:20260425T170511
CREATED:20250723T171520Z
LAST-MODIFIED:20250723T171520Z
UID:618-1758303000-1758308400@tsunami-eck.de
SUMMARY:Kindertraining
DESCRIPTION:
URL:https://tsunami-eck.de/veranstaltung/kindertraining-43/
LOCATION:Schleswig-Holstein
END:VEVENT
BEGIN:VEVENT
DTSTART;TZID=UTC:20250919T193000
DTEND;TZID=UTC:20250919T210000
DTSTAMP:20260425T170511
CREATED:20250723T171521Z
LAST-MODIFIED:20250723T171521Z
UID:619-1758310200-1758315600@tsunami-eck.de
SUMMARY:Erwachsenentraining
DESCRIPTION:
URL:https://tsunami-eck.de/veranstaltung/erwachsenentraining-45/
LOCATION:Schleswig-Holstein
END:VEVENT
BEGIN:VEVENT
DTSTART;TZID=UTC:20250922T173000
DTEND;TZID=UTC:20250922T190000
DTSTAMP:20260425T170511
CREATED:20250723T171521Z
LAST-MODIFIED:20250723T171521Z
UID:620-1758562200-1758567600@tsunami-eck.de
SUMMARY:Kindertraining
DESCRIPTION:
URL:https://tsunami-eck.de/veranstaltung/kindertraining-44/
LOCATION:Schleswig-Holstein
END:VEVENT
BEGIN:VEVENT
DTSTART;TZID=UTC:20250922T193000
DTEND;TZID=UTC:20250922T210000
DTSTAMP:20260425T170511
CREATED:20250723T171521Z
LAST-MODIFIED:20250723T171521Z
UID:621-1758569400-1758574800@tsunami-eck.de
SUMMARY:Erwachsenentraining
DESCRIPTION:
URL:https://tsunami-eck.de/veranstaltung/erwachsenentraining-46/
LOCATION:Schleswig-Holstein
END:VEVENT
BEGIN:VEVENT
DTSTART;TZID=UTC:20250926T173000
DTEND;TZID=UTC:20250926T190000
DTSTAMP:20260425T170511
CREATED:20250723T171536Z
LAST-MODIFIED:20250723T171536Z
UID:622-1758907800-1758913200@tsunami-eck.de
SUMMARY:Kindertraining
DESCRIPTION:
URL:https://tsunami-eck.de/veranstaltung/kindertraining-45/
LOCATION:Schleswig-Holstein
END:VEVENT
BEGIN:VEVENT
DTSTART;TZID=UTC:20250926T193000
DTEND;TZID=UTC:20250926T210000
DTSTAMP:20260425T170511
CREATED:20250723T171536Z
LAST-MODIFIED:20250723T171536Z
UID:623-1758915000-1758920400@tsunami-eck.de
SUMMARY:Erwachsenentraining
DESCRIPTION:
URL:https://tsunami-eck.de/veranstaltung/erwachsenentraining-71/
LOCATION:Schleswig-Holstein
END:VEVENT
BEGIN:VEVENT
DTSTART;TZID=UTC:20250929T173000
DTEND;TZID=UTC:20250929T190000
DTSTAMP:20260425T170511
CREATED:20250723T171536Z
LAST-MODIFIED:20250723T171536Z
UID:624-1759167000-1759172400@tsunami-eck.de
SUMMARY:Kindertraining
DESCRIPTION:
URL:https://tsunami-eck.de/veranstaltung/kindertraining-68/
LOCATION:Schleswig-Holstein
END:VEVENT
BEGIN:VEVENT
DTSTART;TZID=UTC:20250929T193000
DTEND;TZID=UTC:20250929T210000
DTSTAMP:20260425T170511
CREATED:20250723T171536Z
LAST-MODIFIED:20250723T171536Z
UID:625-1759174200-1759179600@tsunami-eck.de
SUMMARY:Erwachsenentraining
DESCRIPTION:
URL:https://tsunami-eck.de/veranstaltung/erwachsenentraining-72/
LOCATION:Schleswig-Holstein
END:VEVENT
END:VCALENDAR