BEGIN:VCALENDAR
VERSION:2.0
PRODID:-//Tsunami Eckernf&ouml;rde e.V. - ECPv6.15.20//NONSGML v1.0//EN
CALSCALE:GREGORIAN
METHOD:PUBLISH
X-WR-CALNAME:Tsunami Eckernf&ouml;rde e.V.
X-ORIGINAL-URL:https://tsunami-eck.de
X-WR-CALDESC:Veranstaltungen für Tsunami Eckernf&ouml;rde e.V.
REFRESH-INTERVAL;VALUE=DURATION:PT1H
X-Robots-Tag:noindex
X-PUBLISHED-TTL:PT1H
BEGIN:VTIMEZONE
TZID:UTC
BEGIN:STANDARD
TZOFFSETFROM:+0000
TZOFFSETTO:+0000
TZNAME:UTC
DTSTART:20240101T000000
END:STANDARD
END:VTIMEZONE
BEGIN:VEVENT
DTSTART;TZID=UTC:20251006T173000
DTEND;TZID=UTC:20251006T190000
DTSTAMP:20260425T154651
CREATED:20250723T171536Z
LAST-MODIFIED:20250723T171536Z
UID:626-1759771800-1759777200@tsunami-eck.de
SUMMARY:Kindertraining
DESCRIPTION:
URL:https://tsunami-eck.de/veranstaltung/kindertraining-69/
LOCATION:Schleswig-Holstein
END:VEVENT
BEGIN:VEVENT
DTSTART;TZID=UTC:20251006T193000
DTEND;TZID=UTC:20251006T210000
DTSTAMP:20260425T154651
CREATED:20250723T171551Z
LAST-MODIFIED:20250723T171551Z
UID:627-1759779000-1759784400@tsunami-eck.de
SUMMARY:Erwachsenentraining
DESCRIPTION:
URL:https://tsunami-eck.de/veranstaltung/erwachsenentraining-73/
LOCATION:Schleswig-Holstein
END:VEVENT
BEGIN:VEVENT
DTSTART;TZID=UTC:20251013T173000
DTEND;TZID=UTC:20251013T190000
DTSTAMP:20260425T154651
CREATED:20250723T171551Z
LAST-MODIFIED:20250723T171551Z
UID:630-1760376600-1760382000@tsunami-eck.de
SUMMARY:Kindertraining
DESCRIPTION:
URL:https://tsunami-eck.de/veranstaltung/kindertraining-71/
LOCATION:Schleswig-Holstein
END:VEVENT
BEGIN:VEVENT
DTSTART;TZID=UTC:20251013T193000
DTEND;TZID=UTC:20251013T210000
DTSTAMP:20260425T154651
CREATED:20250723T171551Z
LAST-MODIFIED:20250723T171551Z
UID:631-1760383800-1760389200@tsunami-eck.de
SUMMARY:Erwachsenentraining
DESCRIPTION:
URL:https://tsunami-eck.de/veranstaltung/erwachsenentraining-75/
LOCATION:Schleswig-Holstein
END:VEVENT
BEGIN:VEVENT
DTSTART;TZID=UTC:20251017T173000
DTEND;TZID=UTC:20251017T190000
DTSTAMP:20260425T154651
CREATED:20250723T171606Z
LAST-MODIFIED:20250723T171606Z
UID:632-1760722200-1760727600@tsunami-eck.de
SUMMARY:Kindertraining
DESCRIPTION:
URL:https://tsunami-eck.de/veranstaltung/kindertraining-72/
LOCATION:Schleswig-Holstein
END:VEVENT
BEGIN:VEVENT
DTSTART;TZID=UTC:20251017T193000
DTEND;TZID=UTC:20251017T210000
DTSTAMP:20260425T154651
CREATED:20250723T171606Z
LAST-MODIFIED:20250723T171606Z
UID:633-1760729400-1760734800@tsunami-eck.de
SUMMARY:Erwachsenentraining
DESCRIPTION:
URL:https://tsunami-eck.de/veranstaltung/erwachsenentraining-76/
LOCATION:Schleswig-Holstein
END:VEVENT
END:VCALENDAR