BEGIN:VCALENDAR
VERSION:2.0
PRODID:-//Tsunami Eckernf&ouml;rde e.V. - ECPv6.15.20//NONSGML v1.0//EN
CALSCALE:GREGORIAN
METHOD:PUBLISH
X-ORIGINAL-URL:https://tsunami-eck.de
X-WR-CALDESC:Veranstaltungen für Tsunami Eckernf&ouml;rde e.V.
REFRESH-INTERVAL;VALUE=DURATION:PT1H
X-Robots-Tag:noindex
X-PUBLISHED-TTL:PT1H
BEGIN:VTIMEZONE
TZID:UTC
BEGIN:STANDARD
TZOFFSETFROM:+0000
TZOFFSETTO:+0000
TZNAME:UTC
DTSTART:20250101T000000
END:STANDARD
END:VTIMEZONE
BEGIN:VEVENT
DTSTART;TZID=UTC:20260109T173000
DTEND;TZID=UTC:20260109T190000
DTSTAMP:20260425T103516
CREATED:20260101T115043Z
LAST-MODIFIED:20260101T115043Z
UID:706-1767979800-1767985200@tsunami-eck.de
SUMMARY:Kindertraining
DESCRIPTION:
URL:https://tsunami-eck.de/veranstaltung/kindertraining-3/
LOCATION:Schulzentrum Süd in der III Sporthalle\, Sauerstraße 16\, Eckernförde\, Schleswig-Holstein\, 24340\, Germany
CATEGORIES:Training
ORGANIZER;CN="Tsunami Eckernf%C3%B6rde e.V.":MAILTO:verein@tsunami-eck.de
END:VEVENT
BEGIN:VEVENT
DTSTART;TZID=UTC:20260109T193000
DTEND;TZID=UTC:20260109T210000
DTSTAMP:20260425T103516
CREATED:20260101T120020Z
LAST-MODIFIED:20260101T120020Z
UID:781-1767987000-1767992400@tsunami-eck.de
SUMMARY:Erwachsenentraining
DESCRIPTION:
URL:https://tsunami-eck.de/veranstaltung/erwachsenentraining-3/
LOCATION:Schulzentrum Süd in der III Sporthalle\, Sauerstraße 16\, Eckernförde\, Schleswig-Holstein\, 24340\, Germany
CATEGORIES:Training
ORGANIZER;CN="Tsunami Eckernf%C3%B6rde e.V.":MAILTO:verein@tsunami-eck.de
END:VEVENT
BEGIN:VEVENT
DTSTART;TZID=UTC:20260112T173000
DTEND;TZID=UTC:20260112T190000
DTSTAMP:20260425T103516
CREATED:20260101T115043Z
LAST-MODIFIED:20260101T115043Z
UID:707-1768239000-1768244400@tsunami-eck.de
SUMMARY:Kindertraining
DESCRIPTION:
URL:https://tsunami-eck.de/veranstaltung/kindertraining-14/
LOCATION:Schulzentrum Süd in der III Sporthalle\, Sauerstraße 16\, Eckernförde\, Schleswig-Holstein\, 24340\, Germany
CATEGORIES:Training
ORGANIZER;CN="Tsunami Eckernf%C3%B6rde e.V.":MAILTO:verein@tsunami-eck.de
END:VEVENT
BEGIN:VEVENT
DTSTART;TZID=UTC:20260112T193000
DTEND;TZID=UTC:20260112T210000
DTSTAMP:20260425T103516
CREATED:20260101T120020Z
LAST-MODIFIED:20260101T120020Z
UID:782-1768246200-1768251600@tsunami-eck.de
SUMMARY:Erwachsenentraining
DESCRIPTION:
URL:https://tsunami-eck.de/veranstaltung/erwachsenentraining-5/
LOCATION:Schulzentrum Süd in der III Sporthalle\, Sauerstraße 16\, Eckernförde\, Schleswig-Holstein\, 24340\, Germany
CATEGORIES:Training
ORGANIZER;CN="Tsunami Eckernf%C3%B6rde e.V.":MAILTO:verein@tsunami-eck.de
END:VEVENT
BEGIN:VEVENT
DTSTART;TZID=UTC:20260116T173000
DTEND;TZID=UTC:20260116T190000
DTSTAMP:20260425T103516
CREATED:20260101T115043Z
LAST-MODIFIED:20260101T115043Z
UID:708-1768584600-1768590000@tsunami-eck.de
SUMMARY:Kindertraining
DESCRIPTION:
URL:https://tsunami-eck.de/veranstaltung/kindertraining-22/
LOCATION:Schulzentrum Süd in der III Sporthalle\, Sauerstraße 16\, Eckernförde\, Schleswig-Holstein\, 24340\, Germany
CATEGORIES:Training
ORGANIZER;CN="Tsunami Eckernf%C3%B6rde e.V.":MAILTO:verein@tsunami-eck.de
END:VEVENT
BEGIN:VEVENT
DTSTART;TZID=UTC:20260116T193000
DTEND;TZID=UTC:20260116T210000
DTSTAMP:20260425T103516
CREATED:20260101T120021Z
LAST-MODIFIED:20260101T120021Z
UID:783-1768591800-1768597200@tsunami-eck.de
SUMMARY:Erwachsenentraining
DESCRIPTION:
URL:https://tsunami-eck.de/veranstaltung/erwachsenentraining-15/
LOCATION:Schulzentrum Süd in der III Sporthalle\, Sauerstraße 16\, Eckernförde\, Schleswig-Holstein\, 24340\, Germany
CATEGORIES:Training
ORGANIZER;CN="Tsunami Eckernf%C3%B6rde e.V.":MAILTO:verein@tsunami-eck.de
END:VEVENT
BEGIN:VEVENT
DTSTART;TZID=UTC:20260119T173000
DTEND;TZID=UTC:20260119T190000
DTSTAMP:20260425T103516
CREATED:20260101T115044Z
LAST-MODIFIED:20260101T115044Z
UID:709-1768843800-1768849200@tsunami-eck.de
SUMMARY:Kindertraining
DESCRIPTION:
URL:https://tsunami-eck.de/veranstaltung/kindertraining-25/
LOCATION:Schulzentrum Süd in der III Sporthalle\, Sauerstraße 16\, Eckernförde\, Schleswig-Holstein\, 24340\, Germany
CATEGORIES:Training
ORGANIZER;CN="Tsunami Eckernf%C3%B6rde e.V.":MAILTO:verein@tsunami-eck.de
END:VEVENT
BEGIN:VEVENT
DTSTART;TZID=UTC:20260119T193000
DTEND;TZID=UTC:20260119T210000
DTSTAMP:20260425T103516
CREATED:20260101T120021Z
LAST-MODIFIED:20260101T120021Z
UID:784-1768851000-1768856400@tsunami-eck.de
SUMMARY:Erwachsenentraining
DESCRIPTION:
URL:https://tsunami-eck.de/veranstaltung/erwachsenentraining-21/
LOCATION:Schulzentrum Süd in der III Sporthalle\, Sauerstraße 16\, Eckernförde\, Schleswig-Holstein\, 24340\, Germany
CATEGORIES:Training
ORGANIZER;CN="Tsunami Eckernf%C3%B6rde e.V.":MAILTO:verein@tsunami-eck.de
END:VEVENT
BEGIN:VEVENT
DTSTART;TZID=UTC:20260123T173000
DTEND;TZID=UTC:20260123T190000
DTSTAMP:20260425T103516
CREATED:20260101T115044Z
LAST-MODIFIED:20260101T115044Z
UID:710-1769189400-1769194800@tsunami-eck.de
SUMMARY:Kindertraining
DESCRIPTION:
URL:https://tsunami-eck.de/veranstaltung/kindertraining-26/
LOCATION:Schulzentrum Süd in der III Sporthalle\, Sauerstraße 16\, Eckernförde\, Schleswig-Holstein\, 24340\, Germany
CATEGORIES:Training
ORGANIZER;CN="Tsunami Eckernf%C3%B6rde e.V.":MAILTO:verein@tsunami-eck.de
END:VEVENT
BEGIN:VEVENT
DTSTART;TZID=UTC:20260126T173000
DTEND;TZID=UTC:20260126T190000
DTSTAMP:20260425T103516
CREATED:20260101T115046Z
LAST-MODIFIED:20260101T115046Z
UID:711-1769448600-1769454000@tsunami-eck.de
SUMMARY:Kindertraining
DESCRIPTION:
URL:https://tsunami-eck.de/veranstaltung/kindertraining-27/
LOCATION:Schulzentrum Süd in der III Sporthalle\, Sauerstraße 16\, Eckernförde\, Schleswig-Holstein\, 24340\, Germany
CATEGORIES:Training
ORGANIZER;CN="Tsunami Eckernf%C3%B6rde e.V.":MAILTO:verein@tsunami-eck.de
END:VEVENT
BEGIN:VEVENT
DTSTART;TZID=UTC:20260126T193000
DTEND;TZID=UTC:20260126T210000
DTSTAMP:20260425T103516
CREATED:20260101T120035Z
LAST-MODIFIED:20260101T120035Z
UID:786-1769455800-1769461200@tsunami-eck.de
SUMMARY:Erwachsenentraining
DESCRIPTION:
URL:https://tsunami-eck.de/veranstaltung/erwachsenentraining-26/
LOCATION:Schulzentrum Süd in der III Sporthalle\, Sauerstraße 16\, Eckernförde\, Schleswig-Holstein\, 24340\, Germany
CATEGORIES:Training
ORGANIZER;CN="Tsunami Eckernf%C3%B6rde e.V.":MAILTO:verein@tsunami-eck.de
END:VEVENT
BEGIN:VEVENT
DTSTART;TZID=UTC:20260130T173000
DTEND;TZID=UTC:20260130T190000
DTSTAMP:20260425T103516
CREATED:20260101T115046Z
LAST-MODIFIED:20260101T115046Z
UID:712-1769794200-1769799600@tsunami-eck.de
SUMMARY:Kindertraining
DESCRIPTION:
URL:https://tsunami-eck.de/veranstaltung/kindertraining-28/
LOCATION:Schulzentrum Süd in der III Sporthalle\, Sauerstraße 16\, Eckernförde\, Schleswig-Holstein\, 24340\, Germany
CATEGORIES:Training
ORGANIZER;CN="Tsunami Eckernf%C3%B6rde e.V.":MAILTO:verein@tsunami-eck.de
END:VEVENT
BEGIN:VEVENT
DTSTART;TZID=UTC:20260130T193000
DTEND;TZID=UTC:20260130T210000
DTSTAMP:20260425T103516
CREATED:20260101T120035Z
LAST-MODIFIED:20260101T120035Z
UID:787-1769801400-1769806800@tsunami-eck.de
SUMMARY:Erwachsenentraining
DESCRIPTION:
URL:https://tsunami-eck.de/veranstaltung/erwachsenentraining-27/
LOCATION:Schulzentrum Süd in der III Sporthalle\, Sauerstraße 16\, Eckernförde\, Schleswig-Holstein\, 24340\, Germany
CATEGORIES:Training
ORGANIZER;CN="Tsunami Eckernf%C3%B6rde e.V.":MAILTO:verein@tsunami-eck.de
END:VEVENT
END:VCALENDAR